BEGIN:VCALENDAR
VERSION:2.0
PRODID:-//eventon.com NONSGML v1.0//EN
CALSCALE:GREGORIAN
METHOD:PUBLISH
BEGIN:VEVENT
UID:69ea325ce2c63
DTSTAMP:20260423T145316Z
DTSTART:20260502T170000Z
DTEND:20260502T190000Z
LOCATION:Tijenraan\,  Raalte
SUMMARY:Zwartwoud/ Kwiek - Westfriesland/SEW
DESCRIPTION:Locatie: Tijenraan\,  Raalte\nhttps://www.teammedemblik.nl/even
 ts/zwartwoud-kwiek-westfriesland-sew/
URL:https://www.teammedemblik.nl/events/zwartwoud-kwiek-westfriesland-sew/
END:VEVENT
END:VCALENDAR