BEGIN:VCALENDAR
VERSION:2.0
PRODID:-//eventon.com NONSGML v1.0//EN
CALSCALE:GREGORIAN
METHOD:PUBLISH
BEGIN:VEVENT
UID:69ea2bccb9e4b
DTSTAMP:20260423T142516Z
DTSTART:20260425T170000Z
DTEND:20260425T190000Z
LOCATION:De Bloesem\,  Wognum
SUMMARY:Westfriesland/SEW -	Zwartwoud/ Kwiek
DESCRIPTION:Locatie: De Bloesem\nhttps://www.teammedemblik.nl/events/westfr
 iesland-sew-zwartwoud-kwiek-2/
URL:https://www.teammedemblik.nl/events/westfriesland-sew-zwartwoud-kwiek-2/
END:VEVENT
END:VCALENDAR