BEGIN:VCALENDAR
VERSION:2.0
PRODID:-//eventon.com NONSGML v1.0//EN
CALSCALE:GREGORIAN
METHOD:PUBLISH
BEGIN:VEVENT
UID:69ea42aa180c7
DTSTAMP:20260423T160250Z
DTSTART:20260418T170000Z
DTEND:20260418T190000Z
LOCATION:De Uithoek\,  Kwintsheul
SUMMARY:HV Quintus - Westfriesland/SEW
DESCRIPTION:Locatie: De Uithoek\,  Kwintsheul\nhttps://www.teammedemblik.nl
 /events/hv-quintus-westfriesland-sew/
URL:https://www.teammedemblik.nl/events/hv-quintus-westfriesland-sew/
END:VEVENT
END:VCALENDAR