BEGIN:VCALENDAR
VERSION:2.0
PRODID:-//eventon.com NONSGML v1.0//EN
CALSCALE:GREGORIAN
METHOD:PUBLISH
BEGIN:VEVENT
UID:69ea57289ca2a
DTSTAMP:20260423T173016Z
DTSTART:20260328T180000Z
DTEND:20260328T200000Z
LOCATION:De Bloesem\,  Wognum
SUMMARY:Westfriesland/SEW - Zwartwoud/Kwiek
DESCRIPTION:Locatie: De Bloesem\nhttps://www.teammedemblik.nl/events/westfr
 iesland-sew-zwartwoud-kwiek/
URL:https://www.teammedemblik.nl/events/westfriesland-sew-zwartwoud-kwiek/
END:VEVENT
END:VCALENDAR