BEGIN:VCALENDAR
VERSION:2.0
PRODID:-//eventon.com NONSGML v1.0//EN
CALSCALE:GREGORIAN
METHOD:PUBLISH
BEGIN:VEVENT
UID:69ea58e434161
DTSTAMP:20260423T173740Z
DTSTART:20260414T170000Z
DTEND:20260414T190000Z
LOCATION:De Bloesem\,  Wognum
SUMMARY:Westfriesland/SEW - Cabooter Fortes Venlo
DESCRIPTION:Locatie: De Bloesem\nhttps://www.teammedemblik.nl/events/westfr
 iesland-sew-cabooter-fortes-venlo/
URL:https://www.teammedemblik.nl/events/westfriesland-sew-cabooter-fortes-venlo/
END:VEVENT
END:VCALENDAR