BEGIN:VCALENDAR
VERSION:2.0
PRODID:-//eventon.com NONSGML v1.0//EN
CALSCALE:GREGORIAN
METHOD:PUBLISH
BEGIN:VEVENT
UID:69ea70a843131
DTSTAMP:20260423T191904Z
DTSTART:20260221T190000Z
DTEND:20260221T210000Z
LOCATION:Angelslo\,  Emmen
SUMMARY:Misker/E&O - Westfriesland/SEW
DESCRIPTION:Locatie: Angelslo\nhttps://www.teammedemblik.nl/events/misker-e
 o-westfriesland-sew/
URL:https://www.teammedemblik.nl/events/misker-eo-westfriesland-sew/
END:VEVENT
END:VCALENDAR