BEGIN:VCALENDAR
VERSION:2.0
PRODID:-//eventon.com NONSGML v1.0//EN
CALSCALE:GREGORIAN
METHOD:PUBLISH
BEGIN:VEVENT
UID:69ea9b03cc6e9
DTSTAMP:20260423T221947Z
DTSTART:20260207T180000Z
DTEND:20260207T200000Z
LOCATION:De Bloesem\,  Wognum
SUMMARY:Westfriesland/SEW - Aqqo Bookings/DSVD
DESCRIPTION:Locatie: De Bloesem\nhttps://www.teammedemblik.nl/events/westf
 riesland-sew-aqqo-bookings-dsvd/
URL:https://www.teammedemblik.nl/events/westfriesland-sew-aqqo-bookings-dsvd/
END:VEVENT
END:VCALENDAR