BEGIN:VCALENDAR
VERSION:2.0
PRODID:-//eventon.com NONSGML v1.0//EN
CALSCALE:GREGORIAN
METHOD:PUBLISH
BEGIN:VEVENT
UID:69eaafe05e402
DTSTAMP:20260423T234848Z
DTSTART:20260131T180000Z
DTEND:20260131T200000Z
LOCATION:Sportcentrum VZV\,  &#039;t Veld
SUMMARY:JuRo Unirek/VZV - Westfriesland/SEW
DESCRIPTION:Locatie: Sportcentrum VZV\nhttps://www.teammedemblik.nl/events/
 juro-unirek-vzv-westfriesland-sew/
URL:https://www.teammedemblik.nl/events/juro-unirek-vzv-westfriesland-sew/
END:VEVENT
END:VCALENDAR