BEGIN:VCALENDAR
VERSION:2.0
PRODID:-//eventon.com NONSGML v1.0//EN
CALSCALE:GREGORIAN
METHOD:PUBLISH
BEGIN:VEVENT
UID:69ead81db7b32
DTSTAMP:20260424T024029Z
DTSTART:20260124T180000Z
DTEND:20260124T200000Z
LOCATION:De Bloesem\,  Wognum
SUMMARY:Westfriesland/SEW - HV Quintus
DESCRIPTION:Locatie: De Bloesem\nhttps://www.teammedemblik.nl/events/westfr
 iesland-sew-hv-quintus-2/
URL:https://www.teammedemblik.nl/events/westfriesland-sew-hv-quintus-2/
END:VEVENT
END:VCALENDAR