BEGIN:VCALENDAR
VERSION:2.0
PRODID:-//eventon.com NONSGML v1.0//EN
CALSCALE:GREGORIAN
METHOD:PUBLISH
BEGIN:VEVENT
UID:69ead736e20c2
DTSTAMP:20260424T023638Z
DTSTART:20260117T193000Z
DTEND:20260117T213000Z
LOCATION:De Looierij\,  Dongen
SUMMARY:M.H.V. ’81 - Westfriesland/SEW
DESCRIPTION:Locatie: De Looierij\nhttps://www.teammedemblik.nl/events/m-h-v
 -81-westfriesland-sew-2/
URL:https://www.teammedemblik.nl/events/m-h-v-81-westfriesland-sew-2/
END:VEVENT
END:VCALENDAR