BEGIN:VCALENDAR
VERSION:2.0
PRODID:-//eventon.com NONSGML v1.0//EN
CALSCALE:GREGORIAN
METHOD:PUBLISH
BEGIN:VEVENT
UID:69eafe9273681
DTSTAMP:20260424T052434Z
DTSTART:20260903
DTEND:20260904
LOCATION:Medemblik
SUMMARY:ONK Dragon Class - European Grand Prix 2026
DESCRIPTION:Deze internationale Dragon Class-regatta wordt gevaren op het I
 Jsselmeer vanuit het Regatta Center Medemblik en geldt als het Nederlands k
 ampioenschap Dragon Class 2026. Het wedstrijdgebied is een bekende openwate
 rlocatie voor World Sailing-regatta’s. Dit evenement is de vierde en laat
 ste wedstrijd in de European Grand Prix 2026-serie\,  na GP#1 in San[..]\nh
 ttps://www.teammedemblik.nl/events/onk-draken/
URL:https://www.teammedemblik.nl/events/onk-draken/
END:VEVENT
END:VCALENDAR