BEGIN:VCALENDAR
VERSION:2.0
PRODID:-//eventon.com NONSGML v1.0//EN
CALSCALE:GREGORIAN
METHOD:PUBLISH
BEGIN:VEVENT
UID:69eb1377a0c6c
DTSTAMP:20260424T065343Z
DTSTART:20260824
DTEND:20260825
LOCATION:Medemblik\,  Regatta Center Medemblik
SUMMARY:EK Star
DESCRIPTION:24 &#8211; 29 Augustus EK Star. EK zeilen in Medemblik\nhttps:/
 /www.teammedemblik.nl/events/ek-star/
URL:https://www.teammedemblik.nl/events/ek-star/
END:VEVENT
END:VCALENDAR