BEGIN:VCALENDAR
VERSION:2.0
PRODID:-//eventon.com NONSGML v1.0//EN
CALSCALE:GREGORIAN
METHOD:PUBLISH
BEGIN:VEVENT
UID:69eb266a483fe
DTSTAMP:20260424T081434Z
DTSTART:20260815
DTEND:20260816
LOCATION:Haven Medemblik
SUMMARY:IJsselmeermarathon 2026; NK openwaterzwemmen in Medemblik
DESCRIPTION:Goed nieuws voor alle openwaterzwemmers en liefhebbers van de I
 Jsselmeer Zwemmarathon:de volgende editie vindt plaats op 15 augustus 2026
 . We kijken daarbij ook terug op een indrukwekkende editie in 2025\,  waari
 n Tenzin Tieman de 22 kilometer lange oversteek van Stavoren naar Mede
 mblik op zijn naam schreef. Na een zware tocht over het IJsselmeer kwam 
 hij als eerste aan in[..]\nhttps://www.teammedemblik.nl/events/ijsselmeerma
 rathon-2026-nk-openwaterzwemmen-in-medemblik/
URL:https://www.teammedemblik.nl/events/ijsselmeermarathon-2026-nk-openwaterzwemmen-in-medemblik/
END:VEVENT
END:VCALENDAR