BEGIN:VCALENDAR
VERSION:2.0
PRODID:-//eventon.com NONSGML v1.0//EN
CALSCALE:GREGORIAN
METHOD:PUBLISH
BEGIN:VEVENT
UID:69e8dad7d6bbc
DTSTAMP:20260422T142735Z
DTSTART:20260704
DTEND:20260705
LOCATION:Medemblik
SUMMARY:Contender Worlds
DESCRIPTION:4 &#8211; 10 Juli Contender Worlds. WK zeilen in Medemblik\nhtt
 ps://www.teammedemblik.nl/events/contender-worlds-2/
URL:https://www.teammedemblik.nl/events/contender-worlds-2/
END:VEVENT
END:VCALENDAR